Workbook

Sheet STRUKTUR-2026
A1: BAGAN ORGANISASI
A2: DINAS PERTANIAN PANGAN KELAUTAN dan PERIKANAN | B2: DINAS KETAHANAN PANGAN DAN PERTANIAN
A3: KABUPATEN PURWOREJO
AJ4: Kepala Dinas
AJ5: BAGAS ADI KARYANTO, S.Sos,.M.M
AJ6: NIP. 197304211993021001
F8: Kelompok Jabatan Fungsional | BF8: Sekretaris
BF9: Maria Dini Handajani,S.T,.MAP
BF10: NIP. 197004011999032004
AS13: Sub.Bagian Perencanaan | BF13: Sub.Bagian Keuangan | BS13: Sub Bagian Umum dan Kepegawaian
AS15: Nur Subkhan, S.Pt | BF15: Mangisatun,SE | BS15: Nur Riana, S.IP
AS16: NIP. 198311032010011013 | BF16: NIP.19710608 199503 2001 | BS16: NIP. 19680321 199402 2001
N20: Bidang Pangan | AD20: Bidang Kesehatan Hewan Dan Kesehatan Masyarakat Veteriner | AT20: Bidang Prasarana dan Penyuluhan Pertanian | BJ20: Bidang Sarana dan Perlindungan Pertanian
N22: Tri Astuti Andayani, S.TP., M.M. | AD22: drh. Sri Widartik, M.M. | AT22: Arie Sulistyani,S.TP,M.AP | BJ22: Fitria Kurniawati, S.TP., M.M
N23: NIP. 19750126 200003 2 033 | AD23: NIP. 19750604 200604 2 022 | AT23: NIP. 1970721 199803 2 007 | BJ23: NIP. 19790821 200501 2002
AL25: Kepala UPT PUSKESWAN
AL27: drh.Amad Kosim
AL28: NIP. 19711005 200501 1 018
AL30: Ka. Subbag. TU Puskeswan
AL31: Satiyah, SE.
AL32: NIP.19680617 199003 2 002

Sheet Sekretariat
A1: STRUKTUR ORGANISASI
A2: =#REF! -> #REF!
A3: SEKRETARIAT
O8: =#REF! -> #REF!
O18: =#REF! -> #REF!
O19: =#REF! -> #REF!
B22: =#REF! -> #REF! | O22: =#REF! -> #REF! | AB22: =#REF! -> #REF!
B32: =#REF! -> #REF! | O32: =#REF! -> #REF! | AB32: =#REF! -> #REF!
B33: =#REF! -> #REF! | O33: =#REF! -> #REF! | AB33: =#REF! -> #REF!
B42: =#REF! -> #REF! | AB42: =#REF! -> #REF!
B50: =#REF! -> #REF!
B52: =#REF! -> #REF!

Sheet Bidang
B1: =#REF! -> #REF!
B2: =#REF! -> #REF!
B3: BIDANG-BIDANG
AB4: =#REF! -> #REF!
AB12: =#REF! -> #REF!
AB13: =#REF! -> #REF!
AP17: =#REF! -> #REF!
I18: =#REF! -> #REF!
AP25: =#REF! -> #REF!
AP26: =#REF! -> #REF!
C29: =#REF! -> #REF! | P29: =#REF! -> #REF! | AC29: =#REF! -> #REF! | AP29: =#REF! -> #REF! | BC29: =#REF! -> #REF! | BP29: =#REF! -> #REF!
C38: =#REF! -> #REF! | P38: =#REF! -> #REF! | AC38: =#REF! -> #REF! | AP38: =#REF! -> #REF! | BC38: =IFERROR(#REF!,"-") -> - | BP38: =#REF! -> #REF!
C39: =#REF! -> #REF! | P39: =#REF! -> #REF! | AC39: =#REF! -> #REF! | AP39: =#REF! -> #REF! | BC39: =IFERROR(#REF!,"-") -> - | BP39: =#REF! -> #REF!
B41: =Sekretariat!$B$42 -> #REF! | C41: =#REF! -> #REF! | AA41: =#REF! -> #REF!
B43: =#REF! -> #REF!

Sheet Bid TPH
A1: =#REF! -> #REF!
A2: =#REF! -> #REF!
A3: =O8 -> #REF!
O8: =Bidang!C29 -> #REF!
O18: =#REF! -> #REF!
O19: =#REF! -> #REF!
B22: =#REF! -> #REF! | O22: =#REF! -> #REF! | AB22: =#REF! -> #REF!
B32: =#REF! -> #REF! | O32: =#REF! -> #REF! | AB32: =#REF! -> #REF!
B33: =#REF! -> #REF! | O33: =#REF! -> #REF! | AB33: =#REF! -> #REF!
B42: =Sekretariat!$B$42 -> #REF! | AB42: =#REF! -> #REF!
B50: =#REF! -> #REF!

Sheet Bid Pangan
A1: =#REF! -> #REF!
A2: =#REF! -> #REF!
A3: =O8 -> #REF!
O8: =#REF! -> #REF!
O18: =#REF! -> #REF!
O19: =#REF! -> #REF!
B22: =#REF! -> #REF! | O22: =#REF! -> #REF! | AD22: =#REF! -> #REF!
B32: =#REF! -> #REF! | O32: =#REF! -> #REF! | AD32: =#REF! -> #REF!
B33: =#REF! -> #REF! | O33: =#REF! -> #REF! | AD33: =#REF! -> #REF!
B42: =Sekretariat!$B$42 -> #REF! | AB42: =#REF! -> #REF!
B50: =#REF! -> #REF!

Sheet Bid Bun
B1: =#REF! -> #REF!
B2: =#REF! -> #REF!
B3: =O8 -> #REF!
O8: =#REF! -> #REF!
O18: =#REF! -> #REF!
O19: =#REF! -> #REF!
B22: =#REF! -> #REF! | AD22: =#REF! -> #REF!
B32: =#REF! -> #REF! | AD32: =#REF! -> #REF!
B33: =#REF! -> #REF! | AD33: =#REF! -> #REF!
B42: =Sekretariat!$B$42 -> #REF! | AB42: =#REF! -> #REF!
B50: =#REF! -> #REF!

Sheet Bid Nak
A1: =#REF! -> #REF!
A2: =#REF! -> #REF!
A3: =O8 -> #REF!
O8: =#REF! -> #REF!
O18: =#REF! -> #REF!
O19: =#REF! -> #REF!
B22: =#REF! -> #REF! | AD22: =#REF! -> #REF!
B32: =#REF! -> #REF! | AD32: =#REF! -> #REF!
B33: =#REF! -> #REF! | AD33: =#REF! -> #REF!
B42: =Sekretariat!$B$42 -> #REF! | AB42: =#REF! -> #REF!
B50: =#REF! -> #REF!

Sheet Bid Kan
A1: =#REF! -> #REF!
A2: =#REF! -> #REF!
A3: =O8 -> #REF!
O8: =#REF! -> #REF!
O18: =#REF! -> #REF!
O19: =#REF! -> #REF!
B22: =#REF! -> #REF! | O22: =#REF! -> #REF! | AD22: =#REF! -> #REF!
B32: =#REF! -> #REF! | O32: =#REF! -> #REF! | AD32: =#REF! -> #REF!
B33: =#REF! -> #REF! | O33: =#REF! -> #REF! | AD33: =#REF! -> #REF!
B42: =Sekretariat!$B$42 -> #REF! | AB42: =#REF! -> #REF!
B50: =#REF! -> #REF!

Sheet Bid PSP
A1: =#REF! -> #REF!
A2: =#REF! -> #REF!
A3: =O8 -> #REF!
O8: =#REF! -> #REF!
O18: =#REF! -> #REF!
O19: =#REF! -> #REF!
B22: =#REF! -> #REF! | AC22: =#REF! -> #REF!
B32: =#REF! -> #REF! | AC32: =#REF! -> #REF!
B33: =#REF! -> #REF! | AC33: =#REF! -> #REF!
B42: =Sekretariat!$B$42 -> #REF! | AB42: =#REF! -> #REF!
B50: =#REF! -> #REF!

Sheet UPT 2017
F1: =#REF! -> #REF!
F2: DINAS PERTANIAN PANGAN KELAUTAN dan PERIKANAN
F3: =W16 -> #REF! | BD3: =#REF! -> #REF!
BD4: =#REF! -> #REF!
U6: =#REF! -> #REF!
U7: =#REF! -> #REF!
U8: =#REF! -> #REF!
F10: Kelompok Jabatan Fungsional | AO10: =#REF! -> #REF!
AO11: =#REF! -> #REF!
AO12: =#REF! -> #REF!
W16: =#REF! -> #REF!
W25: Ir. Anita Helianti
W26: NIP. 19610727 198703 2005 (III/d)
W28: =#REF! -> #REF!
W36: drh. Sri Widartik, MM
W37: NIP. 19750604 200604 2022 (III/d)
F40: =#REF! -> #REF!

Sheet UPT
A1: STRUKTUR ORGANISASI
A2: DINAS PERTANIAN PETERNAKAN KELAUTAN dan PERIKANAN
A3: UNIT PELAKSANA TEKNIS
X5: Kepala Dinas
X6: Ir. Dri Sumarno
X7: NIP. 19590217 198611 1 001 (IV/c)
AR9: Sekretaris
AR10: Sukusnanto, SP.
AR11: NIP. 19640920 198703 1 009 (III/d)
C15: UPT Pengembangan Agensia Hayati | Q15: UPT Inseminasi Buatan dan Perbibitan Ternak | AE15: UPT Pusat Kesehatan Hewan | AR15: UPT Perbibitan Padi dan Hortikultura
C24: =IFERROR(#REF!,"-") -> - | Q24: =IFERROR(#REF!,"-") -> - | AE24: =#REF! -> #REF! | AR24: =IFERROR(#REF!,"-") -> -
C25: =IFERROR(#REF!,"-") -> - | Q25: =IFERROR(#REF!,"-") -> - | AE25: =#REF! -> #REF! | AR25: =IFERROR(#REF!,"-") -> -
C27: Ka. Subbag. TU | Q27: Ka. Subbag. TU | AE27: Ka. Subbag. TU | AR27: Ka. Subbag. TU
C35: =IFERROR(#REF!,"-") -> - | Q35: =IFERROR(#REF!,"-") -> - | AE35: =#REF! -> #REF! | AR35: =IFERROR(#REF!,"-") -> -
C36: =IFERROR(#REF!,"-") -> - | Q36: =IFERROR(#REF!,"-") -> - | AE36: =#REF! -> #REF! | AR36: =IFERROR(#REF!,"-") -> -
A39: =Sekretariat!$B$42 -> #REF!
E40: =#REF! -> #REF!
A42: =#REF! -> #REF! | F42: =#REF! -> #REF!

Sheet Fungsional
A1: =#REF! -> #REF!
A2: =#REF! -> #REF!
A3: =#REF! -> #REF!
O8: =#REF! -> #REF!
O18: =#REF! -> #REF!
O19: =Bidang!AB13 -> #REF!
B22: Koordinator PPL Kabupaten | O22: Petugas Pengawas Mutu Pangan Hasil Pertanian
B32: Panuju Bekti, SP, MM | O32: Suharto, S.TP | AB32: Ir. Medi Susilo
B33: NIP. 19630905 199303 1007 | O33: NIP. 19590612 198103 1015 | AB33: NIP. 19640813 199301 1001
B42: =Sekretariat!$B$42 -> #REF!
B50: =#REF! -> #REF!

Sheet DPKPKP (Blank)
A2: BAGAN ORGANISASI
A3: DINAS PERTANIAN PANGAN KELAUTAN dan PERIKANAN | CG3: Dasar : Keputusan Bupati Purworejo, Nomor : 821.2/ 458 /2016
A4: KABUPATEN PURWOREJO | CG4: Tanggal : 31 Desember 2016
AL5: Kepala Dinas
F9: Kelompok Jabatan Fungsional | BF9: Sekretaris
BF10: Sukusnanto, SP.
BF11: NIP. 19640920 198703 1009 (IV/b)
AS14: Sub Bagian Perencanaan Evaluasi dan Pelaporan | BF14: Sub Bagian Keuangan | BS14: Sub Bagian Umum dan Kepegawaian
AS16: Tri Astuti Andayani, S.TP. | BF16: Deasy Ari Wulandari, S.E, M.M | BS16: Rita Dwiyana, S.H
AS17: NIP. 19750126 200003 2033 (III/d) | BF17: NIP. 19771221 200012 2003 (III/d) | BS17: NIP. 19690922 199503 2002 (III/d)
C20: Bidang Tanaman Pangan dan Hortikultura | Q20: Bidang Pangan | AE20: Bidang Perkebunan | AT20: Bidang Peternakan | BH20: Bidang Kelautan dan Perikanan | BV20: Bidang Prasarana dan Sarana
C22: Ir. Eko Anang SW, M.MA | AE22: Ir. Heru Pratiknyo | AT22: Ir. M. Riyanto | BV22: Dra. Purwandari P, M.AP
C23: NIP. 19650428 199303 1009 (IV/a) | AE23: NIP. 19590603 198803 1005 (IV/b) | AT23: NIP. 19600221 198608 1001 (IV/b) | BV23: NIP. 19680412 199603 2004 (IV/a)
C26: Seksi Pengembangan Produksi Padi dan Palawija | Q26: Seksi Ketersediaan dan Kerawanan Pangan | AE26: Seksi Pengembangan Produksi Perkebunan | AT26: Seksi Pengembangan Produksi dan Bina Usaha | BH26: Seksi Perikanan Tangkap | BV26: Seksi Prasarana dan Sarana TPH Perkebunan dan Pangan
C28: Eko Susanto, S.P | Q28: Wakijan, S.P, M.AP | AE28: Ir. Siti Lestari, M.M | AT28: Ir. Endang Purwati | BH28: Eko Paskiyanto, A.Pi, MM | BV28: Abdul Malik, SE.MM
C29: NIP. 19720211 199903 1006 (III/d) | Q29: NIP. 19620102 199403 1003 (IV/a) | AE29: NIP. 19670603 199603 2003 (IV/a) | AT29: NIP. 19590121 199310 2001 (III/d) | BH29: NIP. 19670515 199103 1001 (IV/a) | BV29: NIP. 19670715 199403 1008 (IV/a)
C31: Seksi Pengembangan Produksi Hortikultura | Q31: Seksi Konsumsi Keanekaragaman dan Keamanan Pangan | AE31: Seksi Perlindungan Tanaman dan Bina Usaha Perkebunan | AT31: Seksi Kesehatan Hewan | BH31: Seksi Perikanan Budidaya | BV31: Seksi Prasarana dan Sarana Peternakan Kelautan dan Perikanan
C33: Jayadi, S.P | Q33: Ir. Muni Rahayu, M.M | AE33: Muh. Muslih, S.P, M.M | AT33: Ir. Doddy Heru Prasetyo | BH33: Mukh. Mahfud | BV33: Ir. Sofiati Luhuri
C34: NIP. 19671112 198811 1001 (III/d) | Q34: NIP. 19630213 198303 2009 (IV/a) | AE34: NIP. 19670627 199703 1003 (IV/a) | AT34: NIP. 19591219 199503 1001 (III/d) | BH34: NIP. 19631130 198801 1001 (III/d) | BV34: NIP. 19641214 199803 2002 (III/d)
C36: Seksi Pengemb. Lahan dan Pelind. Tan. Pangan dan Hortikultura | Q36: Seksi Distribusi dan Cadangan Pangan | BH36: Seksi Usaha dan Daya Saing
C38: Arie Sulistyani, S.TP, MP | Q38: Ir. Elly Nurul Setyawati, M.M | BH38: Mustopo, ST
C39: NIP. 19710721 199803 2007 (IV/a) | Q39: NIP. 19620517 198903 2007 (IV/b) | BH39: NIP. 19700103 200312 1010 (III/d)
AL41: UPT Pusat Kesehatan Hewan
AL43: Ir. Anita Helianti
AL44: NIP. 19610727 198703 2005 (III/d)
AL46: Ka. Subbag. TU Puskeswan
AL47: drh. Sri Widartik, MM
AL48: NIP. 19750604 200604 2022 (III/d)
BT50: Pelantikan : 31 Desember 2016
